Package: GenomicAlignments Version: 1.42.0 Command: rm -rf GenomicAlignments.buildbin-libdir && mkdir GenomicAlignments.buildbin-libdir && /Users/biocbuild/BBS/utils/build-universal.sh GenomicAlignments_1.42.0.tar.gz /Library/Frameworks/R.framework/Resources/bin/R GenomicAlignments.buildbin-libdir StartedAt: 2025-02-04 13:01:04 -0500 (Tue, 04 Feb 2025) EndedAt: 2025-02-04 13:03:00 -0500 (Tue, 04 Feb 2025) EllapsedTime: 115.2 seconds RetCode: 0 Status: OK PackageFile: GenomicAlignments_1.42.0.tgz PackageFileSize: 2.252 MiB