Package: GenomicAlignments Version: 1.42.0 Command: /home/biocbuild/bbs-3.20-bioc/R/bin/R CMD check --install=check:GenomicAlignments.install-out.txt --library=/home/biocbuild/bbs-3.20-bioc/R/site-library --timings GenomicAlignments_1.42.0.tar.gz StartedAt: 2025-02-03 22:39:55 -0500 (Mon, 03 Feb 2025) EndedAt: 2025-02-03 22:45:43 -0500 (Mon, 03 Feb 2025) EllapsedTime: 348.3 seconds RetCode: 0 Status: OK CheckDir: GenomicAlignments.Rcheck Warnings: 0