Package: GenomicAlignments Version: 1.42.0 Command: F:\biocbuild\bbs-3.20-bioc\R\bin\R.exe CMD INSTALL GenomicAlignments StartedAt: 2025-02-03 16:20:29 -0500 (Mon, 03 Feb 2025) EndedAt: 2025-02-03 16:25:01 -0500 (Mon, 03 Feb 2025) EllapsedTime: 271.5 seconds RetCode: 0 Status: OK