Package: GenomicDataCommons Version: 1.30.1 Maintainer: Sean Davis MaintainerEmail: seandavi at gmail.com git_url: https://git.bioconductor.org/packages/GenomicDataCommons git_branch: RELEASE_3_20 git_last_commit: 31f6677 git_last_commit_date: 2025-02-03 15:40:21 -0500 (Mon, 03 Feb 2025)