Package: GenomicDataCommons Version: 1.30.1 Command: /Library/Frameworks/R.framework/Resources/bin/R CMD check --install=check:GenomicDataCommons.install-out.txt --library=/Library/Frameworks/R.framework/Resources/library --no-vignettes --timings GenomicDataCommons_1.30.1.tar.gz StartedAt: 2025-02-11 20:31:10 -0500 (Tue, 11 Feb 2025) EndedAt: 2025-02-11 20:33:04 -0500 (Tue, 11 Feb 2025) EllapsedTime: 114.5 seconds RetCode: 0 Status: OK CheckDir: GenomicDataCommons.Rcheck Warnings: 0