Package: GenomicDataCommons Version: 1.30.1 Command: /Library/Frameworks/R.framework/Resources/bin/R CMD build --keep-empty-dirs --no-resave-data GenomicDataCommons StartedAt: 2025-02-10 19:06:22 -0500 (Mon, 10 Feb 2025) EndedAt: 2025-02-10 19:08:23 -0500 (Mon, 10 Feb 2025) EllapsedTime: 121.6 seconds RetCode: 0 Status: OK PackageFile: GenomicDataCommons_1.30.1.tar.gz PackageFileSize: 2.368 MiB