Package: GenomicDataCommons Version: 1.30.0 Command: /home/biocbuild/R/R/bin/R CMD build --keep-empty-dirs --no-resave-data GenomicDataCommons StartedAt: 2025-02-03 23:49:17 -0000 (Mon, 03 Feb 2025) EndedAt: 2025-02-03 23:51:28 -0000 (Mon, 03 Feb 2025) EllapsedTime: 131.1 seconds RetCode: 0 Status: OK PackageFile: GenomicDataCommons_1.30.0.tar.gz PackageFileSize: 2.482 MiB