Package: GenomicFiles Version: 1.42.0 Command: rm -rf GenomicFiles.buildbin-libdir && mkdir GenomicFiles.buildbin-libdir && /Users/biocbuild/BBS/utils/build-universal.sh GenomicFiles_1.42.0.tar.gz /Library/Frameworks/R.framework/Resources/bin/R GenomicFiles.buildbin-libdir StartedAt: 2025-02-01 15:04:26 -0500 (Sat, 01 Feb 2025) EndedAt: 2025-02-01 15:05:19 -0500 (Sat, 01 Feb 2025) EllapsedTime: 53.0 seconds RetCode: 0 Status: OK PackageFile: GenomicFiles_1.42.0.tgz PackageFileSize: 1024 KiB