Package: GenomicFiles Version: 1.42.0 Command: /Library/Frameworks/R.framework/Resources/bin/R CMD build --keep-empty-dirs --no-resave-data GenomicFiles StartedAt: 2025-01-31 00:15:45 -0500 (Fri, 31 Jan 2025) EndedAt: 2025-01-31 00:17:16 -0500 (Fri, 31 Jan 2025) EllapsedTime: 91.4 seconds RetCode: 0 Status: OK PackageFile: GenomicFiles_1.42.0.tar.gz PackageFileSize: 712.5 KiB