Package: GenomicFiles Version: 1.42.0 Command: /Library/Frameworks/R.framework/Resources/bin/R CMD INSTALL GenomicFiles StartedAt: 2024-11-19 15:21:23 -0500 (Tue, 19 Nov 2024) EndedAt: 2024-11-19 15:22:20 -0500 (Tue, 19 Nov 2024) EllapsedTime: 57.4 seconds RetCode: 0 Status: OK