Package: GenomicFiles Version: 1.42.0 Command: rm -rf GenomicFiles.buildbin-libdir && mkdir GenomicFiles.buildbin-libdir && /Users/biocbuild/BBS/utils/build-universal.sh GenomicFiles_1.42.0.tar.gz /Library/Frameworks/R.framework/Resources/bin/R GenomicFiles.buildbin-libdir StartedAt: 2025-01-31 12:52:22 -0500 (Fri, 31 Jan 2025) EndedAt: 2025-01-31 12:53:51 -0500 (Fri, 31 Jan 2025) EllapsedTime: 89.0 seconds RetCode: 0 Status: OK PackageFile: GenomicFiles_1.42.0.tgz PackageFileSize: 1024 KiB