Package: GenomicFiles Version: 1.42.0 Command: /Library/Frameworks/R.framework/Resources/bin/R CMD build --keep-empty-dirs --no-resave-data GenomicFiles StartedAt: 2025-01-30 19:21:59 -0500 (Thu, 30 Jan 2025) EndedAt: 2025-01-30 19:24:52 -0500 (Thu, 30 Jan 2025) EllapsedTime: 172.2 seconds RetCode: 0 Status: OK PackageFile: GenomicFiles_1.42.0.tar.gz PackageFileSize: 712.4 KiB