Package: GenomicFiles Version: 1.42.0 Command: /Library/Frameworks/R.framework/Resources/bin/R CMD INSTALL GenomicFiles StartedAt: 2025-01-30 15:41:13 -0500 (Thu, 30 Jan 2025) EndedAt: 2025-01-30 15:42:40 -0500 (Thu, 30 Jan 2025) EllapsedTime: 86.4 seconds RetCode: 0 Status: OK