Package: GenomicFiles Version: 1.42.0 Command: /home/biocbuild/bbs-3.20-bioc/R/bin/R CMD build --keep-empty-dirs --no-resave-data --md5 GenomicFiles StartedAt: 2025-02-03 17:33:06 -0500 (Mon, 03 Feb 2025) EndedAt: 2025-02-03 17:34:15 -0500 (Mon, 03 Feb 2025) EllapsedTime: 69.1 seconds RetCode: 0 Status: OK PackageFile: GenomicFiles_1.42.0.tar.gz PackageFileSize: 713.7 KiB