Package: GenomicFiles Version: 1.42.0 Command: chmod a+r GenomicFiles -R && F:\biocbuild\bbs-3.20-bioc\R\bin\R.exe CMD build --keep-empty-dirs --no-resave-data GenomicFiles StartedAt: 2025-01-30 19:09:00 -0500 (Thu, 30 Jan 2025) EndedAt: 2025-01-30 19:12:31 -0500 (Thu, 30 Jan 2025) EllapsedTime: 211.4 seconds RetCode: 0 Status: OK PackageFile: GenomicFiles_1.42.0.tar.gz PackageFileSize: 712.8 KiB