Package: GenomicFiles Version: 1.42.0 Command: F:\biocbuild\bbs-3.20-bioc\R\bin\R.exe CMD INSTALL GenomicFiles StartedAt: 2025-01-30 16:15:02 -0500 (Thu, 30 Jan 2025) EndedAt: 2025-01-30 16:16:25 -0500 (Thu, 30 Jan 2025) EllapsedTime: 83.5 seconds RetCode: 0 Status: OK