Package: GenomicFiles Version: 1.42.0 Command: /home/biocbuild/R/R/bin/R CMD INSTALL GenomicFiles StartedAt: 2025-01-30 20:28:39 -0000 (Thu, 30 Jan 2025) EndedAt: 2025-01-30 20:29:32 -0000 (Thu, 30 Jan 2025) EllapsedTime: 53.1 seconds RetCode: 0 Status: OK