Package: GenomicInteractionNodes Version: 1.10.0 Command: /Library/Frameworks/R.framework/Resources/bin/R CMD build --keep-empty-dirs --no-resave-data GenomicInteractionNodes StartedAt: 2025-02-04 00:12:35 -0500 (Tue, 04 Feb 2025) EndedAt: 2025-02-04 00:14:51 -0500 (Tue, 04 Feb 2025) EllapsedTime: 135.8 seconds RetCode: 0 Status: OK PackageFile: GenomicInteractionNodes_1.10.0.tar.gz PackageFileSize: 248.3 KiB