Package: GenomicInteractionNodes Version: 1.10.0 Command: rm -rf GenomicInteractionNodes.buildbin-libdir && mkdir GenomicInteractionNodes.buildbin-libdir && F:\biocbuild\bbs-3.20-bioc\R\bin\R.exe CMD INSTALL --build --library=GenomicInteractionNodes.buildbin-libdir GenomicInteractionNodes_1.10.0.tar.gz StartedAt: 2025-02-04 08:34:53 -0500 (Tue, 04 Feb 2025) EndedAt: 2025-02-04 08:39:49 -0500 (Tue, 04 Feb 2025) EllapsedTime: 295.7 seconds RetCode: 0 Status: OK PackageFile: GenomicInteractionNodes_1.10.0.zip PackageFileSize: 276.8 KiB