Package: GenomicInteractionNodes Version: 1.10.0 Command: chmod a+r GenomicInteractionNodes -R && F:\biocbuild\bbs-3.20-bioc\R\bin\R.exe CMD build --keep-empty-dirs --no-resave-data GenomicInteractionNodes StartedAt: 2025-02-10 19:18:10 -0500 (Mon, 10 Feb 2025) EndedAt: 2025-02-10 19:20:27 -0500 (Mon, 10 Feb 2025) EllapsedTime: 137.7 seconds RetCode: 0 Status: OK PackageFile: GenomicInteractionNodes_1.10.0.tar.gz PackageFileSize: 248.4 KiB