Package: GenomicInteractionNodes Version: 1.10.0 Command: /home/biocbuild/R/R/bin/R CMD build --keep-empty-dirs --no-resave-data GenomicInteractionNodes StartedAt: 2025-02-10 23:41:25 -0000 (Mon, 10 Feb 2025) EndedAt: 2025-02-10 23:43:21 -0000 (Mon, 10 Feb 2025) EllapsedTime: 116.1 seconds RetCode: 0 Status: OK PackageFile: GenomicInteractionNodes_1.10.0.tar.gz PackageFileSize: 274.2 KiB