Package: GenomicInteractionNodes Version: 1.10.0 Command: /home/biocbuild/R/R/bin/R CMD check --install=check:GenomicInteractionNodes.install-out.txt --library=/home/biocbuild/R/R/site-library --no-vignettes --timings GenomicInteractionNodes_1.10.0.tar.gz StartedAt: 2025-02-11 06:30:40 -0000 (Tue, 11 Feb 2025) EndedAt: 2025-02-11 06:37:58 -0000 (Tue, 11 Feb 2025) EllapsedTime: 438.3 seconds RetCode: 0 Status: OK CheckDir: GenomicInteractionNodes.Rcheck Warnings: 0