Package: GenomicInteractionNodes Version: 1.10.0 Command: /home/biocbuild/R/R/bin/R CMD INSTALL GenomicInteractionNodes StartedAt: 2025-02-10 20:27:39 -0000 (Mon, 10 Feb 2025) EndedAt: 2025-02-10 20:28:21 -0000 (Mon, 10 Feb 2025) EllapsedTime: 41.8 seconds RetCode: 0 Status: OK