Package: GenomicInteractions Version: 1.40.0 Command: rm -rf GenomicInteractions.buildbin-libdir && mkdir GenomicInteractions.buildbin-libdir && /Users/biocbuild/BBS/utils/build-universal.sh GenomicInteractions_1.40.0.tar.gz /Library/Frameworks/R.framework/Resources/bin/R GenomicInteractions.buildbin-libdir StartedAt: 2025-02-05 16:00:28 -0500 (Wed, 05 Feb 2025) EndedAt: 2025-02-05 16:02:22 -0500 (Wed, 05 Feb 2025) EllapsedTime: 113.3 seconds RetCode: 0 Status: OK PackageFile: GenomicInteractions_1.40.0.tgz PackageFileSize: 4.002 MiB