Package: GenomicInteractions Version: 1.40.0 Command: /Library/Frameworks/R.framework/Resources/bin/R CMD INSTALL GenomicInteractions StartedAt: 2025-01-30 16:03:42 -0500 (Thu, 30 Jan 2025) EndedAt: 2025-01-30 16:06:19 -0500 (Thu, 30 Jan 2025) EllapsedTime: 157.0 seconds RetCode: 0 Status: OK