Package: GenomicInteractions Version: 1.40.0 Command: /home/biocbuild/bbs-3.20-bioc/R/bin/R CMD INSTALL GenomicInteractions StartedAt: 2025-01-30 15:35:27 -0500 (Thu, 30 Jan 2025) EndedAt: 2025-01-30 15:37:31 -0500 (Thu, 30 Jan 2025) EllapsedTime: 123.5 seconds RetCode: 0 Status: OK