Package: GenomicInteractions Version: 1.40.0 Command: rm -rf GenomicInteractions.buildbin-libdir && mkdir GenomicInteractions.buildbin-libdir && F:\biocbuild\bbs-3.20-bioc\R\bin\R.exe CMD INSTALL --build --library=GenomicInteractions.buildbin-libdir GenomicInteractions_1.40.0.tar.gz StartedAt: 2025-02-04 08:35:04 -0500 (Tue, 04 Feb 2025) EndedAt: 2025-02-04 08:43:08 -0500 (Tue, 04 Feb 2025) EllapsedTime: 483.6 seconds RetCode: 0 Status: OK PackageFile: GenomicInteractions_1.40.0.zip PackageFileSize: 3.768 MiB