Package: GenomicInteractions Version: 1.40.0 Command: chmod a+r GenomicInteractions -R && F:\biocbuild\bbs-3.20-bioc\R\bin\R.exe CMD build --keep-empty-dirs --no-resave-data GenomicInteractions StartedAt: 2025-02-03 19:24:27 -0500 (Mon, 03 Feb 2025) EndedAt: 2025-02-03 19:28:40 -0500 (Mon, 03 Feb 2025) EllapsedTime: 252.4 seconds RetCode: 0 Status: OK PackageFile: GenomicInteractions_1.40.0.tar.gz PackageFileSize: 3.283 MiB