Package: GenomicOZone Version: 1.20.0 Command: /Library/Frameworks/R.framework/Resources/bin/R CMD build --keep-empty-dirs --no-resave-data GenomicOZone StartedAt: 2025-02-04 00:13:13 -0500 (Tue, 04 Feb 2025) EndedAt: 2025-02-04 00:15:54 -0500 (Tue, 04 Feb 2025) EllapsedTime: 161.6 seconds RetCode: 0 Status: OK PackageFile: GenomicOZone_1.20.0.tar.gz PackageFileSize: 1.276 MiB