Package: GenomicOZone Version: 1.20.0 Command: /Library/Frameworks/R.framework/Resources/bin/R CMD check --install=check:GenomicOZone.install-out.txt --library=/Library/Frameworks/R.framework/Resources/library --no-vignettes --timings GenomicOZone_1.20.0.tar.gz StartedAt: 2025-02-04 21:01:11 -0500 (Tue, 04 Feb 2025) EndedAt: 2025-02-04 21:07:48 -0500 (Tue, 04 Feb 2025) EllapsedTime: 397.2 seconds RetCode: 0 Status: OK CheckDir: GenomicOZone.Rcheck Warnings: 0