Package: GenomicOZone Version: 1.20.0 Command: /Library/Frameworks/R.framework/Resources/bin/R CMD INSTALL GenomicOZone StartedAt: 2025-02-03 16:56:23 -0500 (Mon, 03 Feb 2025) EndedAt: 2025-02-03 16:57:42 -0500 (Mon, 03 Feb 2025) EllapsedTime: 79.1 seconds RetCode: 0 Status: OK