Package: GenomicOZone Version: 1.20.0 Command: /Library/Frameworks/R.framework/Resources/bin/R CMD INSTALL GenomicOZone StartedAt: 2025-02-03 16:12:09 -0500 (Mon, 03 Feb 2025) EndedAt: 2025-02-03 16:14:29 -0500 (Mon, 03 Feb 2025) EllapsedTime: 139.2 seconds RetCode: 0 Status: OK