Package: GenomicOZone Version: 1.20.0 Command: /home/biocbuild/bbs-3.20-bioc/R/bin/R CMD check --install=check:GenomicOZone.install-out.txt --library=/home/biocbuild/bbs-3.20-bioc/R/site-library --timings GenomicOZone_1.20.0.tar.gz StartedAt: 2025-02-03 22:40:59 -0500 (Mon, 03 Feb 2025) EndedAt: 2025-02-03 22:47:32 -0500 (Mon, 03 Feb 2025) EllapsedTime: 393.3 seconds RetCode: 0 Status: OK CheckDir: GenomicOZone.Rcheck Warnings: 0