Package: GenomicOZone Version: 1.20.0 Command: rm -rf GenomicOZone.buildbin-libdir && mkdir GenomicOZone.buildbin-libdir && F:\biocbuild\bbs-3.20-bioc\R\bin\R.exe CMD INSTALL --build --library=GenomicOZone.buildbin-libdir GenomicOZone_1.20.0.tar.gz StartedAt: 2025-02-04 08:35:06 -0500 (Tue, 04 Feb 2025) EndedAt: 2025-02-04 08:36:05 -0500 (Tue, 04 Feb 2025) EllapsedTime: 59.1 seconds RetCode: 0 Status: OK PackageFile: GenomicOZone_1.20.0.zip PackageFileSize: 1.325 MiB