Package: GenomicOZone Version: 1.20.0 Command: F:\biocbuild\bbs-3.20-bioc\R\bin\R.exe CMD INSTALL GenomicOZone StartedAt: 2025-02-03 17:04:19 -0500 (Mon, 03 Feb 2025) EndedAt: 2025-02-03 17:05:37 -0500 (Mon, 03 Feb 2025) EllapsedTime: 77.8 seconds RetCode: 0 Status: OK