Package: GenomicOZone Version: 1.20.0 Command: /home/biocbuild/R/R/bin/R CMD build --keep-empty-dirs --no-resave-data GenomicOZone StartedAt: 2025-02-03 23:51:04 -0000 (Mon, 03 Feb 2025) EndedAt: 2025-02-03 23:53:56 -0000 (Mon, 03 Feb 2025) EllapsedTime: 172.1 seconds RetCode: 0 Status: OK PackageFile: GenomicOZone_1.20.0.tar.gz PackageFileSize: 1.275 MiB