Package: GenomicPlot Version: 1.4.0 Command: /Library/Frameworks/R.framework/Resources/bin/R CMD build --keep-empty-dirs --no-resave-data GenomicPlot StartedAt: 2025-02-04 00:14:03 -0500 (Tue, 04 Feb 2025) EndedAt: 2025-02-04 00:16:45 -0500 (Tue, 04 Feb 2025) EllapsedTime: 162.0 seconds RetCode: 0 Status: OK PackageFile: GenomicPlot_1.4.0.tar.gz PackageFileSize: 4.095 MiB