Package: GenomicPlot Version: 1.4.0 Command: /Library/Frameworks/R.framework/Resources/bin/R CMD check --install=check:GenomicPlot.install-out.txt --library=/Library/Frameworks/R.framework/Resources/library --no-vignettes --timings GenomicPlot_1.4.0.tar.gz StartedAt: 2025-02-04 21:02:07 -0500 (Tue, 04 Feb 2025) EndedAt: 2025-02-04 21:13:09 -0500 (Tue, 04 Feb 2025) EllapsedTime: 661.8 seconds RetCode: 0 Status: OK CheckDir: GenomicPlot.Rcheck Warnings: 0