Package: GenomicPlot Version: 1.4.0 Command: rm -rf GenomicPlot.buildbin-libdir && mkdir GenomicPlot.buildbin-libdir && /Users/biocbuild/BBS/utils/build-universal.sh GenomicPlot_1.4.0.tar.gz /Library/Frameworks/R.framework/Resources/bin/R GenomicPlot.buildbin-libdir StartedAt: 2024-11-09 16:51:15 -0500 (Sat, 09 Nov 2024) EndedAt: 2024-11-09 16:51:36 -0500 (Sat, 09 Nov 2024) EllapsedTime: 21.3 seconds RetCode: 0 Status: OK PackageFile: GenomicPlot_1.4.0.tgz PackageFileSize: 4.243 MiB