Package: GenomicPlot Version: 1.4.0 Command: rm -rf GenomicPlot.buildbin-libdir && mkdir GenomicPlot.buildbin-libdir && /Users/biocbuild/BBS/utils/build-universal.sh GenomicPlot_1.4.0.tar.gz /Library/Frameworks/R.framework/Resources/bin/R GenomicPlot.buildbin-libdir StartedAt: 2025-02-04 13:01:36 -0500 (Tue, 04 Feb 2025) EndedAt: 2025-02-04 13:04:13 -0500 (Tue, 04 Feb 2025) EllapsedTime: 156.7 seconds RetCode: 0 Status: OK PackageFile: GenomicPlot_1.4.0.tgz PackageFileSize: 4.236 MiB