Package: GenomicPlot Version: 1.4.0 Command: /Library/Frameworks/R.framework/Resources/bin/R CMD build --keep-empty-dirs --no-resave-data GenomicPlot StartedAt: 2025-02-03 19:11:40 -0500 (Mon, 03 Feb 2025) EndedAt: 2025-02-03 19:16:58 -0500 (Mon, 03 Feb 2025) EllapsedTime: 318.3 seconds RetCode: 0 Status: OK PackageFile: GenomicPlot_1.4.0.tar.gz PackageFileSize: 4.092 MiB