Package: GenomicPlot Version: 1.4.0 Command: /Library/Frameworks/R.framework/Resources/bin/R CMD check --install=check:GenomicPlot.install-out.txt --library=/Library/Frameworks/R.framework/Resources/library --no-vignettes --timings GenomicPlot_1.4.0.tar.gz StartedAt: 2025-02-11 03:56:29 -0500 (Tue, 11 Feb 2025) EndedAt: 2025-02-11 04:18:20 -0500 (Tue, 11 Feb 2025) EllapsedTime: 1311.4 seconds RetCode: 0 Status: OK CheckDir: GenomicPlot.Rcheck Warnings: 0