Package: GenomicPlot Version: 1.4.0 Command: /Library/Frameworks/R.framework/Resources/bin/R CMD INSTALL GenomicPlot StartedAt: 2025-02-03 16:46:22 -0500 (Mon, 03 Feb 2025) EndedAt: 2025-02-03 16:48:10 -0500 (Mon, 03 Feb 2025) EllapsedTime: 107.2 seconds RetCode: 0 Status: OK