Package: GenomicPlot Version: 1.4.0 Command: /home/biocbuild/bbs-3.20-bioc/R/bin/R CMD check --install=check:GenomicPlot.install-out.txt --library=/home/biocbuild/bbs-3.20-bioc/R/site-library --timings GenomicPlot_1.4.0.tar.gz StartedAt: 2025-01-30 22:31:24 -0500 (Thu, 30 Jan 2025) EndedAt: 2025-01-30 22:42:46 -0500 (Thu, 30 Jan 2025) EllapsedTime: 681.8 seconds RetCode: 0 Status: OK CheckDir: GenomicPlot.Rcheck Warnings: 0