Package: GenomicPlot Version: 1.4.0 Command: /home/biocbuild/bbs-3.20-bioc/R/bin/R CMD INSTALL GenomicPlot StartedAt: 2025-01-30 15:59:52 -0500 (Thu, 30 Jan 2025) EndedAt: 2025-01-30 16:00:41 -0500 (Thu, 30 Jan 2025) EllapsedTime: 49.1 seconds RetCode: 0 Status: OK