Package: GenomicPlot Version: 1.4.0 Command: chmod a+r GenomicPlot -R && F:\biocbuild\bbs-3.20-bioc\R\bin\R.exe CMD build --keep-empty-dirs --no-resave-data GenomicPlot StartedAt: 2025-02-03 19:24:37 -0500 (Mon, 03 Feb 2025) EndedAt: 2025-02-03 19:32:37 -0500 (Mon, 03 Feb 2025) EllapsedTime: 480.0 seconds RetCode: 0 Status: OK PackageFile: GenomicPlot_1.4.0.tar.gz PackageFileSize: 1.766 MiB