Package: GenomicPlot Version: 1.4.0 Command: /home/biocbuild/R/R/bin/R CMD build --keep-empty-dirs --no-resave-data GenomicPlot StartedAt: 2025-02-03 23:51:05 -0000 (Mon, 03 Feb 2025) EndedAt: 2025-02-04 00:15:59 -0000 (Tue, 04 Feb 2025) EllapsedTime: 1493.9 seconds RetCode: 0 Status: OK PackageFile: GenomicPlot_1.4.0.tar.gz PackageFileSize: 1.958 MiB