Package: GenomicRanges Version: 1.58.0 Command: /Library/Frameworks/R.framework/Resources/bin/R CMD build --keep-empty-dirs --no-resave-data GenomicRanges StartedAt: 2025-02-04 00:14:47 -0500 (Tue, 04 Feb 2025) EndedAt: 2025-02-04 00:18:26 -0500 (Tue, 04 Feb 2025) EllapsedTime: 218.8 seconds RetCode: 0 Status: OK PackageFile: GenomicRanges_1.58.0.tar.gz PackageFileSize: 1.302 MiB