Package: GenomicRanges Version: 1.58.0 Command: /Library/Frameworks/R.framework/Resources/bin/R CMD INSTALL GenomicRanges StartedAt: 2025-02-10 15:19:22 -0500 (Mon, 10 Feb 2025) EndedAt: 2025-02-10 15:19:47 -0500 (Mon, 10 Feb 2025) EllapsedTime: 24.4 seconds RetCode: 0 Status: OK