Package: GenomicRanges Version: 1.58.0 Command: /Library/Frameworks/R.framework/Resources/bin/R CMD INSTALL GenomicRanges StartedAt: 2025-02-10 15:11:25 -0500 (Mon, 10 Feb 2025) EndedAt: 2025-02-10 15:12:33 -0500 (Mon, 10 Feb 2025) EllapsedTime: 67.2 seconds RetCode: 0 Status: OK